BEGIN:VCALENDAR
VERSION:2.0
PRODID:-//FLCHE - ECPv6.15.12.2//NONSGML v1.0//EN
CALSCALE:GREGORIAN
METHOD:PUBLISH
X-WR-CALNAME:FLCHE
X-ORIGINAL-URL:https://flche.net
X-WR-CALDESC:Events for FLCHE
REFRESH-INTERVAL;VALUE=DURATION:PT1H
X-Robots-Tag:noindex
X-PUBLISHED-TTL:PT1H
BEGIN:VTIMEZONE
TZID:America/New_York
BEGIN:DAYLIGHT
TZOFFSETFROM:-0500
TZOFFSETTO:-0400
TZNAME:EDT
DTSTART:20230312T070000
END:DAYLIGHT
BEGIN:STANDARD
TZOFFSETFROM:-0400
TZOFFSETTO:-0500
TZNAME:EST
DTSTART:20231105T060000
END:STANDARD
BEGIN:DAYLIGHT
TZOFFSETFROM:-0500
TZOFFSETTO:-0400
TZNAME:EDT
DTSTART:20240310T070000
END:DAYLIGHT
BEGIN:STANDARD
TZOFFSETFROM:-0400
TZOFFSETTO:-0500
TZNAME:EST
DTSTART:20241103T060000
END:STANDARD
BEGIN:DAYLIGHT
TZOFFSETFROM:-0500
TZOFFSETTO:-0400
TZNAME:EDT
DTSTART:20250309T070000
END:DAYLIGHT
BEGIN:STANDARD
TZOFFSETFROM:-0400
TZOFFSETTO:-0500
TZNAME:EST
DTSTART:20251102T060000
END:STANDARD
END:VTIMEZONE
BEGIN:VEVENT
DTSTART;TZID=America/New_York:20240427T160000
DTEND;TZID=America/New_York:20240427T180000
DTSTAMP:20260425T071953
CREATED:20240111T024111Z
LAST-MODIFIED:20240111T025757Z
UID:1215-1714233600-1714240800@flche.net
SUMMARY:Sip and Scholarship-April 2024
DESCRIPTION:Please join us on Saturday\, April 27\, 2024 when we listen to Dr. Roger Smith discuss his topic Ponce de Leon and the Fountain of Youth.
URL:https://flche.net/event/sip-and-scholarship-april-2024/
LOCATION:Cafe Gianni\, 425 Alexander Street\, Mount Dora\, 32757\, United States
CATEGORIES:Sip and Scholarship
END:VEVENT
END:VCALENDAR